BEGIN:VCALENDAR
VERSION:2.0
PRODID:-//Retired Employees City of San Antonio - ECPv6.15.20//NONSGML v1.0//EN
CALSCALE:GREGORIAN
METHOD:PUBLISH
X-WR-CALNAME:Retired Employees City of San Antonio
X-ORIGINAL-URL:https://recosa.org
X-WR-CALDESC:Events for Retired Employees City of San Antonio
REFRESH-INTERVAL;VALUE=DURATION:PT1H
X-Robots-Tag:noindex
X-PUBLISHED-TTL:PT1H
BEGIN:VTIMEZONE
TZID:America/Chicago
BEGIN:DAYLIGHT
TZOFFSETFROM:-0600
TZOFFSETTO:-0500
TZNAME:CDT
DTSTART:20230312T080000
END:DAYLIGHT
BEGIN:STANDARD
TZOFFSETFROM:-0500
TZOFFSETTO:-0600
TZNAME:CST
DTSTART:20231105T070000
END:STANDARD
BEGIN:DAYLIGHT
TZOFFSETFROM:-0600
TZOFFSETTO:-0500
TZNAME:CDT
DTSTART:20240310T080000
END:DAYLIGHT
BEGIN:STANDARD
TZOFFSETFROM:-0500
TZOFFSETTO:-0600
TZNAME:CST
DTSTART:20241103T070000
END:STANDARD
BEGIN:DAYLIGHT
TZOFFSETFROM:-0600
TZOFFSETTO:-0500
TZNAME:CDT
DTSTART:20250309T080000
END:DAYLIGHT
BEGIN:STANDARD
TZOFFSETFROM:-0500
TZOFFSETTO:-0600
TZNAME:CST
DTSTART:20251102T070000
END:STANDARD
END:VTIMEZONE
BEGIN:VEVENT
DTSTART;TZID=America/Chicago:20241203T133000
DTEND;TZID=America/Chicago:20241203T163000
DTSTAMP:20260422T214317
CREATED:20240305T215949Z
LAST-MODIFIED:20250114T234112Z
UID:9087-1733232600-1733243400@recosa.org
SUMMARY:Board Work Session
DESCRIPTION:
URL:https://recosa.org/event/dec-2024-monthly-board-meeting/
LOCATION:Generations Federal Credit Union Headquarters/Castle Hills Branch\, 1100 NW Loop 410\, Castle Hills\, TX\, 78213\, United States
CATEGORIES:Board Work Session
ORGANIZER;CN="RECOSA":MAILTO:info@recosa.org
END:VEVENT
END:VCALENDAR