BEGIN:VCALENDAR
VERSION:2.0
PRODID:-//Retired Employees City of San Antonio - ECPv6.15.20//NONSGML v1.0//EN
CALSCALE:GREGORIAN
METHOD:PUBLISH
X-WR-CALNAME:Retired Employees City of San Antonio
X-ORIGINAL-URL:https://recosa.org
X-WR-CALDESC:Events for Retired Employees City of San Antonio
REFRESH-INTERVAL;VALUE=DURATION:PT1H
X-Robots-Tag:noindex
X-PUBLISHED-TTL:PT1H
BEGIN:VTIMEZONE
TZID:America/Chicago
BEGIN:DAYLIGHT
TZOFFSETFROM:-0600
TZOFFSETTO:-0500
TZNAME:CDT
DTSTART:20240310T080000
END:DAYLIGHT
BEGIN:STANDARD
TZOFFSETFROM:-0500
TZOFFSETTO:-0600
TZNAME:CST
DTSTART:20241103T070000
END:STANDARD
BEGIN:DAYLIGHT
TZOFFSETFROM:-0600
TZOFFSETTO:-0500
TZNAME:CDT
DTSTART:20250309T080000
END:DAYLIGHT
BEGIN:STANDARD
TZOFFSETFROM:-0500
TZOFFSETTO:-0600
TZNAME:CST
DTSTART:20251102T070000
END:STANDARD
BEGIN:DAYLIGHT
TZOFFSETFROM:-0600
TZOFFSETTO:-0500
TZNAME:CDT
DTSTART:20260308T080000
END:DAYLIGHT
BEGIN:STANDARD
TZOFFSETFROM:-0500
TZOFFSETTO:-0600
TZNAME:CST
DTSTART:20261101T070000
END:STANDARD
END:VTIMEZONE
BEGIN:VEVENT
DTSTART;TZID=America/Chicago:20250620T113000
DTEND;TZID=America/Chicago:20250620T133000
DTSTAMP:20260419T160450
CREATED:20250114T231803Z
LAST-MODIFIED:20250605T215731Z
UID:9806-1750419000-1750426200@recosa.org
SUMMARY:Quarterly Brown Bag Session
DESCRIPTION:RSVP now for the next Brown Bag session!\n\n\n\n\n\n\n\n\n\n\nEvent:\nRECOSA Brown Bag\n\n\nDate:\nFri.\, Jun. 20\, 2025\n\n\nTime:\n11:30 a.m. – 1:30 p.m.\n\n\nLocation:\n \nSan Antonio Food Bank\n5200 Historic Old Hwy. 90 W.\nSan Antonio\, TX 78227\n\n\nTopic(s):\nSA Food Bank & Tour\n\n\n\n\n\n\n\n\n\nDirections (click map to enlarge): \n\nEnter the property using entrances 1 – 3\nPark in any undesignated parking space\nEnter the Main Building/Warehouse through the “Volunteer Lobby” (do not enter Main Entrance)\nInside the Volunteer Lobby\, take the stairs or elevator to the 2nd floor\nBrown Bag session will be held in the “Valero Community Engagement Center”\n\n\n\nA box lunch will be provided by the San Antonio Food Bank\, compliments of RECOSA. \nTo RSVP\, call or email with your 1) full name 2) number of attendees\, and 3) contact number. The RSVP deadline is next Fri.\, Jun. 13. \n\n\n\n\nPhone:\n(210) 207-7000 (leave a message)\n\n\nEmail:\nAskHR@sanantonio.gov
URL:https://recosa.org/event/quarterly-brown-bag-session/
LOCATION:San Antonio Food Bank\, 5200 Historic Old Hwy. 90 W.\, San Antonio\, TX\, 78227\, United States
CATEGORIES:Brown Bag Session
ORGANIZER;CN="RECOSA":MAILTO:info@recosa.org
END:VEVENT
BEGIN:VEVENT
DTSTART;TZID=America/Chicago:20251121T113000
DTEND;TZID=America/Chicago:20251121T133000
DTSTAMP:20260419T160450
CREATED:20250114T231130Z
LAST-MODIFIED:20251003T214357Z
UID:9800-1763724600-1763731800@recosa.org
SUMMARY:Annual Membership Meeting & Brown Bag Session
DESCRIPTION:RECOSA invites you to join us for our 2025 Annual Membership Meeting & Brown Bag Session on Fri.\, Nov. 21 @ 11:30 a.m. at The Urban Ecology Center at Phil Hardberger Park\, located at 8400 NW Military Hwy. \nErik Walsh\, City of San Antonio City Manager\, will be our our guest speaker. \nA box lunch will be provided\, courtesy of Generations Federal Credit Union\, and there will be door prizes.
URL:https://recosa.org/event/nov-14-2025-annual-membership-meeting-brown-bag-session/
LOCATION:The Urban Ecology Center\, 8400 NW Military Hwy.\, San Antonio\, TX\, 78231\, United States
CATEGORIES:Annual Membership Meeting,Brown Bag Session
ORGANIZER;CN="RECOSA":MAILTO:info@recosa.org
END:VEVENT
END:VCALENDAR